BEGIN:VCALENDAR
PRODID:http://wibix.de/infusions/pro_download_panel/download.php?did=27
VERSION:2.0
METHOD:PUBLISH
BEGIN:VEVENT
DTSTART:20190519T070000Z
DTEND:20190519T110000Z
UID:73@https://ssgpractical.fi/
DTSTAMP:20190517T081608Z
DESCRIPTION:Pidämme seinäkkeiden rakentamistalkoot alkaen klo 10. Samalla siirretään pääportilla oleva vanha puomi meidän ajotielle.\n\nNe vihreät seinäkkeet alkavat olla tiensä päässä joten teemme niitä uusia. Seinäkkeiden tuotantolinja tarvitsee useampia käsipareja ja muutama riskimpi pääsee puomin siirtoon. Siihen tulee kaivinkone hoitamaan raskaimman kaivamistyön.\n\nEnsi sunnuntai 19.5. on sulkupäivä eikä radalla ammuta joten aseet pitää jättää kotiin.
SUMMARY:Talkoot
CLASS:PUBLIC
END:VEVENT
END:VCALENDAR
