BEGIN:VCALENDAR
PRODID:http://wibix.de/infusions/pro_download_panel/download.php?did=27
VERSION:2.0
METHOD:PUBLISH
BEGIN:VEVENT
DTSTART:20190706T050000Z
DTEND:20190706T150000Z
UID:74@https://ssgpractical.fi/
DTSTAMP:20190521T072603Z
DESCRIPTION:SSG Summer Match 2019 Level II\n\nhttps://shootnscoreit.com/ipsc/match/8815/
SUMMARY:SSG Summer Match 2019
CLASS:PUBLIC
RRULE:FREQ=DAILY;INTERVAL=1;UNTIL=20190706T210000Z
END:VEVENT
END:VCALENDAR
