BEGIN:VCALENDAR
PRODID:http://wibix.de/infusions/pro_download_panel/download.php?did=27
VERSION:2.0
METHOD:PUBLISH
BEGIN:VEVENT
DTSTART:20191005T070000Z
DTEND:20191005T110000Z
UID:75@https://ssgpractical.fi/
DTSTAMP:20190925T184902Z
DESCRIPTION:1. rakennetaan uusi puukatos mökin viereen\n2. puretaan ratarakenteet\n3. kasataan tavarat varastoon:\n  - metalliseinät ja kumijalat mökin terassiin\n  - puuseinät varastokonttiin\n  - tynnyrit mökin ja varastokontin väliin tyhjään tilaan\n  - renkaat varastokontin viereen\n  - uudet/hyvät popperit ja platet mökkiin, vanha/huonot varastokonttiin\n  - hyvät isot/pitkät puut puukatokseen\n  - taulukepit varastokontin keppitelinteeseen\n  - taulujalat varastokonttiin\n  - puulavat ja ampumalaatikot varastokontin alle\n4. huonot puutavarat\n5. roskat siivotaan radoilta\n6. roskikset tyhjennetään\n...\n\nja grillataan!
SUMMARY:Syystalkoot
CLASS:PUBLIC
END:VEVENT
END:VCALENDAR
