BEGIN:VCALENDAR
PRODID:http://wibix.de/infusions/pro_download_panel/download.php?did=27
VERSION:2.0
METHOD:PUBLISH
BEGIN:VEVENT
DTSTART:20190830T210000Z
UID:76@https://ssgpractical.fi/
DTSTAMP:20190925T185148Z
DESCRIPTION:https://shootnscoreit.com/ipsc/match/9051/\n\nhttps://tinyurl.com/y5pxtr2d
SUMMARY:SSG Slow Shotgun
CLASS:PUBLIC
RRULE:FREQ=DAILY;INTERVAL=1;UNTIL=20190831T210000Z
END:VEVENT
END:VCALENDAR
