BEGIN:VCALENDAR
PRODID:http://wibix.de/infusions/pro_download_panel/download.php?did=27
VERSION:2.0
METHOD:PUBLISH
BEGIN:VEVENT
DTSTART:20191031T150000Z
DTEND:20191031T180000Z
UID:77@https://ssgpractical.fi/
DTSTAMP:20191016T072657Z
DESCRIPTION:Omalle porukalle, käsiaseet ja pcc. aloitus noin 17:30. voi olla että omasta valolähteestä on hyötyä.
SUMMARY:Halloween viikokisa
CLASS:PUBLIC
END:VEVENT
END:VCALENDAR
